BEGIN:VCALENDAR
VERSION:2.0
PRODID:-//Institute for Research on Labor and Employment - ECPv6.0.5//NONSGML v1.0//EN
CALSCALE:GREGORIAN
METHOD:PUBLISH
X-WR-CALNAME:Institute for Research on Labor and Employment
X-ORIGINAL-URL:https://irle.ucla.edu
X-WR-CALDESC:Events for Institute for Research on Labor and Employment
REFRESH-INTERVAL;VALUE=DURATION:PT1H
X-Robots-Tag:noindex
X-PUBLISHED-TTL:PT1H
BEGIN:VTIMEZONE
TZID:America/Los_Angeles
BEGIN:DAYLIGHT
TZOFFSETFROM:-0800
TZOFFSETTO:-0700
TZNAME:PDT
DTSTART:20250309T100000
END:DAYLIGHT
BEGIN:STANDARD
TZOFFSETFROM:-0700
TZOFFSETTO:-0800
TZNAME:PST
DTSTART:20251102T090000
END:STANDARD
END:VTIMEZONE
BEGIN:VEVENT
DTSTART;TZID=America/Los_Angeles:20250304T150000
DTEND;TZID=America/Los_Angeles:20250304T180000
DTSTAMP:20260423T050006
CREATED:20250221T195826Z
LAST-MODIFIED:20250221T195826Z
UID:25354-1741100400-1741111200@irle.ucla.edu
SUMMARY:Visualizing Oral History
DESCRIPTION:Los Angeles-based artist Phung Huynh\, whose work centers on Southeast Asian refugee experiences\, will discuss labor issues through an immigrant/refugee lens. \nShe’ll share insights on her Metro public art commission\, the 1990 Century City janitor strike\, and Professor Virginia Espino’s oral history work on No Más Bebés. Together\, they’ll explore how oral history and visual storytelling can shape meaningful community projects. \n\nDate: March 4\, 2025 \nTime: 3:30 – 6 pm \nLocation: Boelter Hall 2760 \n\n  \nLoading…
URL:https://irle.ucla.edu/event/visualizing-oral-history/
ATTACH;FMTTYPE=image/png:https://irle.ucla.edu/wp-content/uploads/2025/02/Screen-Shot-2025-02-21-at-11.57.45-AM.png
END:VEVENT
END:VCALENDAR