BEGIN:VCALENDAR
VERSION:2.0
PRODID:-//Institute for Research on Labor and Employment - ECPv6.0.5//NONSGML v1.0//EN
CALSCALE:GREGORIAN
METHOD:PUBLISH
X-WR-CALNAME:Institute for Research on Labor and Employment
X-ORIGINAL-URL:https://irle.ucla.edu
X-WR-CALDESC:Events for Institute for Research on Labor and Employment
REFRESH-INTERVAL;VALUE=DURATION:PT1H
X-Robots-Tag:noindex
X-PUBLISHED-TTL:PT1H
BEGIN:VTIMEZONE
TZID:America/Los_Angeles
BEGIN:DAYLIGHT
TZOFFSETFROM:-0800
TZOFFSETTO:-0700
TZNAME:PDT
DTSTART:20250309T100000
END:DAYLIGHT
BEGIN:STANDARD
TZOFFSETFROM:-0700
TZOFFSETTO:-0800
TZNAME:PST
DTSTART:20251102T090000
END:STANDARD
END:VTIMEZONE
BEGIN:VEVENT
DTSTART;TZID=America/Los_Angeles:20250307T083000
DTEND;TZID=America/Los_Angeles:20250307T180000
DTSTAMP:20260423T050025
CREATED:20250128T005817Z
LAST-MODIFIED:20250128T005817Z
UID:25188-1741336200-1741370400@irle.ucla.edu
SUMMARY:The UCLA CSW|Barbra Streisand Center presents Thinking Gender 2025: "Gendered Labors and Transnational Solidarities"
DESCRIPTION:Join the UCLA Center for the Study of Women|Barbra Streisand Center for their 35th annual graduate research “Thinking Gender” conference. The event will feature engaging student presentations and a keynote address by labor rights organizer Adriana Paz Ramirez (International Domestic Workers Federation). The UCLA Institute for Research on Labor and Employment is a proud cosponsor of this year’s conference. \nThe 2025 Thinking Gender theme\, “Gendered Labors and Transnational Solidarities\,” highlights the rich repertoire of organizing strategies as well as contemporary and historical examples of campaigns led by precarious workers around the world. We are bringing together feminist\, queer\, and BIPOC scholars\, artists\, and organizers to reflect upon the meanings of labor solidarity and care to imagine a more livable society. \nEvent Details\n \nDate: Friday\, March 7\, 2025\nTime: 8:30 AM – 6:00 PM PST\nLocation: James West Alumni Center\, The Collins Conference Room\, Los Angeles\, CA \nTo RSVP: CLICK HERE
URL:https://irle.ucla.edu/event/thinking-gender-2025/
LOCATION:Collins Alumni Conference Room at UCLA James West Alumni Center
ATTACH;FMTTYPE=image/png:https://irle.ucla.edu/wp-content/uploads/2025/01/Screenshot-2025-01-27-at-12.49.32 PM.png
END:VEVENT
END:VCALENDAR