BEGIN:VCALENDAR
VERSION:2.0
PRODID:-//Institute for Research on Labor and Employment - ECPv6.0.5//NONSGML v1.0//EN
CALSCALE:GREGORIAN
METHOD:PUBLISH
X-ORIGINAL-URL:https://irle.ucla.edu
X-WR-CALDESC:Events for Institute for Research on Labor and Employment
REFRESH-INTERVAL;VALUE=DURATION:PT1H
X-Robots-Tag:noindex
X-PUBLISHED-TTL:PT1H
BEGIN:VTIMEZONE
TZID:America/Los_Angeles
BEGIN:DAYLIGHT
TZOFFSETFROM:-0800
TZOFFSETTO:-0700
TZNAME:PDT
DTSTART:20230312T100000
END:DAYLIGHT
BEGIN:STANDARD
TZOFFSETFROM:-0700
TZOFFSETTO:-0800
TZNAME:PST
DTSTART:20231105T090000
END:STANDARD
END:VTIMEZONE
BEGIN:VEVENT
DTSTART;TZID=America/Los_Angeles:20231010T180000
DTEND;TZID=America/Los_Angeles:20231010T200000
DTSTAMP:20260422T040115
CREATED:20231002T202645Z
LAST-MODIFIED:20231004T205201Z
UID:20775-1696960800-1696968000@irle.ucla.edu
SUMMARY:Screening and Talkback: "Backstreet to the American Dream"
DESCRIPTION:In celebration of Hispanic Heritage Month and in partnership with UCLA Labor Studies\, enjoy a screening of the award-winning documentary “Backstreet to the American Dream\,” directed and written by Patricia Nazario ’91\, with executive producer/Medal of Freedom recipient Dolores Huerta. \nThis modern-day look at the classic American Dream is done through the quintessential 21st Century entrepreneurial endeavor — food trucks. “Backstreet to the American Dream” is a deep dive into the birthplace of the $2 billion global industry\, Los Angeles. The 90-minute feature profiles two trucks and juxtaposes the experiences of American entrepreneurs and Mexican immigrants. \nAfter the screening\, enjoy a talkback from the filmmaker\, the protagonist and two faculty members at the UCLA Labor Center who were featured in this film. \nDate: Tuesday\, October 10th \nTime: 6-8pm \nLocation: James West Alumni Center\nRSVP: CLICK HERE \n  \nMeet the Speakers: \nPatricia Nazario ’91 is an international and Congressional Award distinguished journalist. She was on assignment for the National Public Radio affiliate\, KPCC\, in Los Angeles\, when she realized the food truck revolution was a game-changer and began producing the independent bilingual documentary for theatrical release “Backstreet to the American Dream.” \nGaspar Rivera Salgado is a project director at UCLA Labor Center\, as well as a core faculty member of the Labor Studies interdepartmental program\, under the Institute for Research on Labor and Employment. He is also the director of the UCLA Center for Mexican Studies. He teaches classes on work\, labor and social justice in the U.S. and immigration issues. \nHe also directs the Institute for Transnational Social Change and has extensive experience as an independent consultant on transnational migration\, race and ethnic relations\,and diversity training for large organizations. \nVictor Narro is a nationally known expert on immigrant rights and low-wage workers. He has been involved with immigrant rights and labor issues for almost 40 years and is currently a project director for the UCLA Labor Center. Teaching classes that focus on immigrant rights\, low-wage workers\, the labor movement\, and spirituality\, mindfulness and self-care in social justice activism\, Narro is a core faculty member for Labor Studies. He also teaches courses in the Public Interest Law Program at UCLA’s School of Law. \nDoña Guillermina\, is the owner/operator of El Pescadito\, a mariscos lonchera. Guillermina was born in Nayarit\, Mexico\, and is the oldest of nine siblings. In 1976\, she gave birth to her first child\, Felipe. Shortly after arriving to the U.S.\, she found work on a food truck. She bought her own in 1982 and has been parking in the same neighborhood ever since.
URL:https://irle.ucla.edu/event/screening-and-talkback-backstreet-to-the-american-dream/
LOCATION:James West Alumni Center
CATEGORIES:Labor Studies Events
ATTACH;FMTTYPE=image/jpeg:https://irle.ucla.edu/wp-content/uploads/2023/10/unnamed.jpg
END:VEVENT
BEGIN:VEVENT
DTSTART;TZID=America/Los_Angeles:20231024T150000
DTEND;TZID=America/Los_Angeles:20231024T170000
DTSTAMP:20260422T040115
CREATED:20231002T201741Z
LAST-MODIFIED:20231002T201912Z
UID:20769-1698159600-1698166800@irle.ucla.edu
SUMMARY:Labor Studies 10 presents: #HotLaborSummer Panel
DESCRIPTION:Join Kent Wong\, Director of the UCLA Labor Center\, in conversation with Los Angeles labor community organizers who led the fight for workers this summer. Speakers will include strike captains from UNITE-HERE\, SAG-AFTRA\, WGA\, and SEIU 721\, who will discuss their experiences on the picket line. \nLearn how a #HotLaborSummer can transform the American labor movement from the ground up and what fights remain ahead for workers in 2024 and beyond. \nDate: Tuesday\, October 24th \nTime: 3pm \nLocation: UCLA Fowler Auditorium – 103B / Zoom\nRSVP: bit.ly/LS_hotlaborsummer \n*Light refreshments will be served
URL:https://irle.ucla.edu/event/labor-studies-10-presents-hotlaborsummer-panel/
LOCATION:UCLA Fowler Auditorium
CATEGORIES:Labor Studies Events
ATTACH;FMTTYPE=image/png:https://irle.ucla.edu/wp-content/uploads/2023/10/Screen-Shot-2023-10-02-at-1.18.29-PM.png
END:VEVENT
END:VCALENDAR