BEGIN:VCALENDAR
VERSION:2.0
PRODID:-//Institute for Research on Labor and Employment - ECPv6.0.5//NONSGML v1.0//EN
CALSCALE:GREGORIAN
METHOD:PUBLISH
X-ORIGINAL-URL:https://irle.ucla.edu
X-WR-CALDESC:Events for Institute for Research on Labor and Employment
REFRESH-INTERVAL;VALUE=DURATION:PT1H
X-Robots-Tag:noindex
X-PUBLISHED-TTL:PT1H
BEGIN:VTIMEZONE
TZID:America/Los_Angeles
BEGIN:DAYLIGHT
TZOFFSETFROM:-0800
TZOFFSETTO:-0700
TZNAME:PDT
DTSTART:20250309T100000
END:DAYLIGHT
BEGIN:STANDARD
TZOFFSETFROM:-0700
TZOFFSETTO:-0800
TZNAME:PST
DTSTART:20251102T090000
END:STANDARD
END:VTIMEZONE
BEGIN:VEVENT
DTSTART;TZID=America/Los_Angeles:20250212T120000
DTEND;TZID=America/Los_Angeles:20250212T133000
DTSTAMP:20260423T080803
CREATED:20250203T182646Z
LAST-MODIFIED:20250203T182646Z
UID:25306-1739361600-1739367000@irle.ucla.edu
SUMMARY:Data Economies and Futures: An In-Depth Dialogue
DESCRIPTION:Join UCLA Data X for a discussion on how data and digital ecosystems have reshaped our world\, intertwining technology with entrepreneurial and economic outcomes\, and changing the way people live and think on Wednesday\, Feb. 12 at 3312 Murphy Hall\, 12 pm panel and Q&A\, 1 pm lunch.  \n\nWhat ethical and practical questions does this shift raise?\nWhat skills do students need now to remain relevant in an AI-driven job market?\nWhat policies must be in place to ensure our economic security?\n\nModerator:\nRamesh Srinivasan \nProfessor of Information Studies and Design|Media Arts departments; Director\, UCLA Digital Cultures Lab; Community Engagement\, UCLA DataX \nPanelists:\nTobias Higbie\, Professor of History and Labor Studies and Director of the Institute for Research on Labor and Employment\, UCLA College\, Social Sciences \nVelibor Misic\, Associate Professor of Decisions\, Operations and Technology Management\, UCLA Anderson School of Management \nShreya Shreya\, Easton Fellow\, MBA Candidate\, UCLA Anderson School of Management
URL:https://irle.ucla.edu/event/data-economies-and-futures-an-in-depth-dialogue/
LOCATION:3312 Murphy Hall
END:VEVENT
BEGIN:VEVENT
DTSTART;TZID=America/Los_Angeles:20250227T150000
DTEND;TZID=America/Los_Angeles:20250227T163000
DTSTAMP:20260423T080803
CREATED:20250203T182216Z
LAST-MODIFIED:20250203T182216Z
UID:25300-1740668400-1740673800@irle.ucla.edu
SUMMARY:Book Talk: Post/Revolutionary Conditions: Renewed Visions of the Iranian Freedom Struggle with author Alborz Ghandehari
DESCRIPTION:Join the UCLA IRLE and CSW|Streisand Center’s Transnational Gender and Labor Working Group for a book talk on Post/Revolutionary Conditions: Renewed Visions of the Iranian Freedom Struggle with author Alborz Ghandehari on February 27\, 2025 at 3 pm at 2125 Rolfe Hall.  \nThe discussion will offer an intersectional analysis of how radical and progressive movement builders have re-envisioned liberation in the post-’79 era\, despite new forms of oppression under the Islamic Republic and from US and other foreign imperial powers. Post/Revolutionary Conditions shows how potent reimaginings of a radically democratic future have been shaped by multiple generations of protest and kindred struggles globally. \nAbout the author:  \nAlborz Ghandehari is an Assistant Professor of Ethnic Studies at the University of Utah. His research centers social movements in Iran and Southwest Asia/North Africa\, as well as movements in the region’s diasporas. \nTo RSVP to attend the talk and book signing\, click here
URL:https://irle.ucla.edu/event/book-talk-post-revolutionary-conditions-renewed-visions-of-the-iranian-freedom-struggle-with-author-alborz-ghandehari/
LOCATION:2125 Rolfe Hall
END:VEVENT
END:VCALENDAR