BEGIN:VCALENDAR
VERSION:2.0
PRODID:-//Institute for Research on Labor and Employment - ECPv6.0.5//NONSGML v1.0//EN
CALSCALE:GREGORIAN
METHOD:PUBLISH
X-WR-CALNAME:Institute for Research on Labor and Employment
X-ORIGINAL-URL:https://irle.ucla.edu
X-WR-CALDESC:Events for Institute for Research on Labor and Employment
REFRESH-INTERVAL;VALUE=DURATION:PT1H
X-Robots-Tag:noindex
X-PUBLISHED-TTL:PT1H
BEGIN:VTIMEZONE
TZID:America/Los_Angeles
BEGIN:DAYLIGHT
TZOFFSETFROM:-0800
TZOFFSETTO:-0700
TZNAME:PDT
DTSTART:20240310T100000
END:DAYLIGHT
BEGIN:STANDARD
TZOFFSETFROM:-0700
TZOFFSETTO:-0800
TZNAME:PST
DTSTART:20241103T090000
END:STANDARD
END:VTIMEZONE
BEGIN:VEVENT
DTSTART;TZID=America/Los_Angeles:20240821T100000
DTEND;TZID=America/Los_Angeles:20240821T140000
DTSTAMP:20260420T171335
CREATED:20230816T173244Z
LAST-MODIFIED:20240814T175858Z
UID:20515-1724234400-1724248800@irle.ucla.edu
SUMMARY:Labor Summer Research Program 2024 Final Presentations: Workers and Learners in Los Angeles County
DESCRIPTION:This summer\, students participating in the Labor Summer Research Program (LSRP) collected surveys and interviews about how working students navigate barriers and opportunities in fulfilling their educational\, career and work goals. \nJoin us on Wednesday\, August 21st\, as student researchers share their findings\, key issues impacting workers and learners\, and share strategies and solutions to support students who work and workers who study. \nThere will be four webinars\, and you are welcome to join as many sessions as you’re able to – similar data will be presented at each webinar but with different student teams. \n\n\nWebinar 1: 10:00-10:55AM: Aline Silva Rodrigues\, Carolyn Morelos\, Jack Butcher\, Klara Daniaud\, Marshall Olmos\, Mehar Madan\, Mireya Rodriguez\, Yesenia Aragon\, and Zihan Zhang. \n\n\nWebinar 2: 11:00-11:55AM: Angelina Quint\, Gabrielle Aung\, JJ Jacho\, Jun Li\, Kayla Lopez\, Keyshawn Sealie\, Luisa Ortiz\, and Simran Kaur. \nWebinar 3: 12:00-12:55PM: Emilia Benitez\, Hina Malik\, Jimmy Mancilla\, Joaquin Antonio\, Mia Tracy\, Sean Clenista\, Victoria Fierro\, and Vijay Rikhye. \nWebinar 4: 1:00-1:55PM: Joseph Wu\, Sofia Barajas\, Sophia Raymond\, and Ritika Sarma. \nRSVP: bit.ly/LSRP24RSVP
URL:https://irle.ucla.edu/event/labor-summer-research-program-2023-final-presentations-workers-and-learners-in-los-angeles-county/
LOCATION:Online – Zoom
ATTACH;FMTTYPE=image/png:https://irle.ucla.edu/wp-content/uploads/2023/08/Screen-Shot-2024-08-14-at-10.58.01-AM.png
END:VEVENT
END:VCALENDAR