BEGIN:VCALENDAR
VERSION:2.0
PRODID:-//Institute for Research on Labor and Employment - ECPv6.0.5//NONSGML v1.0//EN
CALSCALE:GREGORIAN
METHOD:PUBLISH
X-WR-CALNAME:Institute for Research on Labor and Employment
X-ORIGINAL-URL:https://irle.ucla.edu
X-WR-CALDESC:Events for Institute for Research on Labor and Employment
REFRESH-INTERVAL;VALUE=DURATION:PT1H
X-Robots-Tag:noindex
X-PUBLISHED-TTL:PT1H
BEGIN:VTIMEZONE
TZID:America/Los_Angeles
BEGIN:DAYLIGHT
TZOFFSETFROM:-0800
TZOFFSETTO:-0700
TZNAME:PDT
DTSTART:20250309T100000
END:DAYLIGHT
BEGIN:STANDARD
TZOFFSETFROM:-0700
TZOFFSETTO:-0800
TZNAME:PST
DTSTART:20251102T090000
END:STANDARD
END:VTIMEZONE
BEGIN:VEVENT
DTSTART;TZID=America/Los_Angeles:20250429T130000
DTEND;TZID=America/Los_Angeles:20250429T150000
DTSTAMP:20260423T132127
CREATED:20250407T210114Z
LAST-MODIFIED:20250423T220101Z
UID:25740-1745931600-1745938800@irle.ucla.edu
SUMMARY:A Labor Studies Book Talk with Professor Eric Blanc
DESCRIPTION:The UCLA Labor Studies program and Department of History will co-host a Labor Studies Book Talk with Eric Blanc\, assistant professor of labor studies at Rutgers University. He is the author of We are the Union (UC Press\, 2025) and will be joined by Alex Caputo-Pearl\, UCLA Labor Movement Fellow and former UTLA president\, and Mel Deorsola of Starbucks Workers United. \nBlanc is also the author of Red State Revolt: The Teachers’ Strike Wave and Working-Class Politics (Verso\, 2019). His research focuses on worker-to-worker organizing\, strikes\, digital labor activism\, and working-class politics. \nJoin us for a conversation on how worker-to-worker organizing is revitalizing labor and winning big. \nEvent Details:\n\nDate: April 29\, 2025\nTime: 1:00PM – 3:00PM Pacific Time\nLocation: Zoom\n\nFor those attending\, please click here to RSVP.
URL:https://irle.ucla.edu/event/we-are-the-union-a-labor-studies-book-talk/
LOCATION:Online – Zoom
ATTACH;FMTTYPE=image/png:https://irle.ucla.edu/wp-content/uploads/2025/04/Screen-Shot-2025-04-23-at-2.59.48-PM.png
END:VEVENT
END:VCALENDAR