BEGIN:VCALENDAR
VERSION:2.0
PRODID:-//Institute for Research on Labor and Employment - ECPv6.0.5//NONSGML v1.0//EN
CALSCALE:GREGORIAN
METHOD:PUBLISH
X-WR-CALNAME:Institute for Research on Labor and Employment
X-ORIGINAL-URL:https://irle.ucla.edu
X-WR-CALDESC:Events for Institute for Research on Labor and Employment
REFRESH-INTERVAL;VALUE=DURATION:PT1H
X-Robots-Tag:noindex
X-PUBLISHED-TTL:PT1H
BEGIN:VTIMEZONE
TZID:America/Los_Angeles
BEGIN:DAYLIGHT
TZOFFSETFROM:-0800
TZOFFSETTO:-0700
TZNAME:PDT
DTSTART:20260308T100000
END:DAYLIGHT
BEGIN:STANDARD
TZOFFSETFROM:-0700
TZOFFSETTO:-0800
TZNAME:PST
DTSTART:20261101T090000
END:STANDARD
END:VTIMEZONE
BEGIN:VEVENT
DTSTART;TZID=America/Los_Angeles:20260129T120000
DTEND;TZID=America/Los_Angeles:20260129T133000
DTSTAMP:20260424T093947
CREATED:20251218T231826Z
LAST-MODIFIED:20251219T001547Z
UID:27658-1769688000-1769693400@irle.ucla.edu
SUMMARY:Labor Studies Now - The U.S. Labor Movement in the 2020's: Achievements and Challenges
DESCRIPTION:Ruth Milkman is one of the world’s foremost sociologists of labor and labor movements\, having written extensively on various topics related to work and organized labor in the United States\, past and present. Her most recent books are Immigrant Labor and the New Precariat (Polity\, 2020) and On Gender\, Labor and Inequality (Illinois\, 2016). \nShe was the 2016 President of the American Sociological Association and director of the UCLA Institute for Research on Labor and Employment from 2001 to 2008\, when she was on the faculty in the Department of Sociology. She is currently Distinguished Professor of Sociology at the CUNY Graduate Center and at the CUNY School of Labor and Urban Studies\, where she chairs the Labor Studies Department. \nDate: January 29 \, 2026\nTime: 12 – 1:30 pm\nLocation: Haines Hall 130\nRVSP HERE!
URL:https://irle.ucla.edu/event/labor-studies-now-the-u-s-labor-movement-in-the-2020s-achievements-and-challenges/
LOCATION:Haines Hall 130
ATTACH;FMTTYPE=image/png:https://irle.ucla.edu/wp-content/uploads/2025/12/Screen-Shot-2025-12-18-at-3.10.34-PM.png
END:VEVENT
END:VCALENDAR