BEGIN:VCALENDAR
VERSION:2.0
PRODID:-//Institute for Research on Labor and Employment - ECPv6.0.5//NONSGML v1.0//EN
CALSCALE:GREGORIAN
METHOD:PUBLISH
X-WR-CALNAME:Institute for Research on Labor and Employment
X-ORIGINAL-URL:https://irle.ucla.edu
X-WR-CALDESC:Events for Institute for Research on Labor and Employment
REFRESH-INTERVAL;VALUE=DURATION:PT1H
X-Robots-Tag:noindex
X-PUBLISHED-TTL:PT1H
BEGIN:VTIMEZONE
TZID:America/Los_Angeles
BEGIN:DAYLIGHT
TZOFFSETFROM:-0800
TZOFFSETTO:-0700
TZNAME:PDT
DTSTART:20260308T100000
END:DAYLIGHT
BEGIN:STANDARD
TZOFFSETFROM:-0700
TZOFFSETTO:-0800
TZNAME:PST
DTSTART:20261101T090000
END:STANDARD
END:VTIMEZONE
BEGIN:VEVENT
DTSTART;TZID=America/Los_Angeles:20260427T160000
DTEND;TZID=America/Los_Angeles:20260427T190000
DTSTAMP:20260423T080600
CREATED:20260406T225920Z
LAST-MODIFIED:20260414T190601Z
UID:28365-1777305600-1777316400@irle.ucla.edu
SUMMARY:May Day Teach-In and Poster Session
DESCRIPTION:The UCLA Labor Studies Department is excited to facilitate the attendance of UCLA students to MAY DAY in Los Angeles!!!! May Day is the international celebration dedicated to workers. Occurring on May 1st\, Los Angeles not only dedicates this day to honor the struggles of workers\, but it also recognizes other social issues associated with the working class\, particularly immigration. Each year May Day Coalitions throughout Los Angeles\, as they do in other cities around the world\, organize gatherings where thousands of people\, organizations and supporters come together to bring awareness to the intersecting struggles of working people in their communities. \nIn preparation for May Day\, Labor Studies 10 will be hosting a teach-in on past May Day events in Los Angeles\, their impact on the city and its community members\, and on the current May Day celebrations and their significance during these tumultuous political times. \n\nMonday\, April 27th\n4-6:30 pm\n\nBunche Hall 2209A\nRSVP HERE!\n\n\n\nTeach-In – 4:00 – 5:45pm\nPoster-Making Session 6-6:50pm
URL:https://irle.ucla.edu/event/may-day-teach-in-and-poster-session/
ATTACH;FMTTYPE=image/png:https://irle.ucla.edu/wp-content/uploads/2026/04/Screenshot-2026-04-06-at-4.00.03-PM.png
END:VEVENT
BEGIN:VEVENT
DTSTART;TZID=America/Los_Angeles:20260429T160000
DTEND;TZID=America/Los_Angeles:20260429T173000
DTSTAMP:20260423T080600
CREATED:20260416T171904Z
LAST-MODIFIED:20260416T172027Z
UID:28688-1777478400-1777483800@irle.ucla.edu
SUMMARY:Book Talk: Jonathan Rosenblum on How Socialists Win\, In Conversation with Robin D.G. Kelley
DESCRIPTION:Book Talk: Jonathan Rosenblum on How Socialists Win \nIn Conversation with Robin D.G. Kelley \nVeteran labor organizer and journalist Jonathan Rosenblum discusses his new book\, We’re Coming For You and Your Rotten System: How Socialists Beat Amazon and Upended Big-City Politics\, an insider’s account of Seattle’s socialist city council member Kshama Sawant and the successful movement she led against corporate power and compromising labor leaders. An inspiring lesson for building worker power. \nDate: April 29\, 2026 @ 4 P.M. \nLocation: Royce Hall 314
URL:https://irle.ucla.edu/event/book-talk-jonathan-rosenblum-on-how-socialists-win-in-conversation-with-robin-d-g-kelley/
LOCATION:Royce Hall 314
ATTACH;FMTTYPE=image/png:https://irle.ucla.edu/wp-content/uploads/2026/04/Screenshot-2026-04-16-at-10.16.04-AM.png
END:VEVENT
BEGIN:VEVENT
DTSTART;TZID=America/Los_Angeles:20260501T100000
DTEND;TZID=America/Los_Angeles:20260501T150000
DTSTAMP:20260423T080600
CREATED:20260406T230830Z
LAST-MODIFIED:20260406T230940Z
UID:28375-1777629600-1777647600@irle.ucla.edu
SUMMARY:May Day March
DESCRIPTION:Date: Friday\, May 1st\nTime: 10 AM\nLocation: MacArthur Park \nThis May 1st\, join us at MacArthur Park at 10 AM and march alongside workers from every sector\, trade\, and craft. \nThis year’s message is clear: Solo el pueblo salva al pueblo. Come out and be part of LA’s annual May Day march! 📢 \nStudents — we’re working on a bus from UCLA to MacArthur Park and back\, plus a teach-in and poster-making session before the march. More details coming soon.
URL:https://irle.ucla.edu/event/may-day-march/
ATTACH;FMTTYPE=image/png:https://irle.ucla.edu/wp-content/uploads/2026/04/Screenshot-2026-04-06-at-4.07.11-PM.png
END:VEVENT
END:VCALENDAR