BEGIN:VCALENDAR
VERSION:2.0
PRODID:-//Institute for Research on Labor and Employment - ECPv6.0.5//NONSGML v1.0//EN
CALSCALE:GREGORIAN
METHOD:PUBLISH
X-WR-CALNAME:Institute for Research on Labor and Employment
X-ORIGINAL-URL:https://irle.ucla.edu
X-WR-CALDESC:Events for Institute for Research on Labor and Employment
REFRESH-INTERVAL;VALUE=DURATION:PT1H
X-Robots-Tag:noindex
X-PUBLISHED-TTL:PT1H
BEGIN:VTIMEZONE
TZID:America/Los_Angeles
BEGIN:DAYLIGHT
TZOFFSETFROM:-0800
TZOFFSETTO:-0700
TZNAME:PDT
DTSTART:20260308T100000
END:DAYLIGHT
BEGIN:STANDARD
TZOFFSETFROM:-0700
TZOFFSETTO:-0800
TZNAME:PST
DTSTART:20261101T090000
END:STANDARD
END:VTIMEZONE
BEGIN:VEVENT
DTSTART;TZID=America/Los_Angeles:20260522T130000
DTEND;TZID=America/Los_Angeles:20260522T150000
DTSTAMP:20260423T191547
CREATED:20260423T173313Z
LAST-MODIFIED:20260423T173358Z
UID:28769-1779454800-1779462000@irle.ucla.edu
SUMMARY:2026 Labor@UCLA Research Showcase
DESCRIPTION:Date: May 22nd\nTime: 1-3 P.M.\nLocation: Public Affairs 1323 & Zoom \nRSVP HERE! \nWe are excited to announce our 4th annual Labor@UCLA Research Showcase – Friday\, May 22nd\, 2026 from 1-3 pm in-person at Public Affairs 1323 and via zoom! This event is part of Undergraduate Research Week. Undergraduate Research Week is a week-long celebration of undergraduate research and creative inquiry at UCLA. Students from all disciplines gather to share their innovative and impactful work with the UCLA community at events such as the Undergraduate Research & Creativity Showcase. \nNow in its 28th year\, Undergraduate Research Week\, which will be held May 18-22\, 2026\, is UCLA’s largest undergraduate conference. Labor Studies is an interdisciplinary program of study\, which critically analyzes the theory and practice of current workplace issues. Students develop a deeper understanding of the relationships between their education and society at large and how they\, as college graduates\, can transform the nature of work. Students who were selected will be presenting on past or current work developed for a capstone\, honors theses\, or other Labor Studies and related classes (both approved and related). Lunch will be provided for in-person attendance. \nIf you have any questions\, please feel free to follow-up with Elizbeth Espinoza\, espinoza@irle.ucla.edu.
URL:https://irle.ucla.edu/event/2026-laborucla-research-showcase/
LOCATION:Public Affairs 1323 & Zoom
ATTACH;FMTTYPE=image/png:https://irle.ucla.edu/wp-content/uploads/2026/04/Screenshot-2026-04-23-at-10.14.17-AM.png
END:VEVENT
END:VCALENDAR